BEGIN:VCALENDAR
VERSION:2.0
PRODID:-//Quest 4 Truth - ECPv4.6.18//NONSGML v1.0//EN
CALSCALE:GREGORIAN
METHOD:PUBLISH
X-WR-CALNAME:Quest 4 Truth
X-ORIGINAL-URL:https://www.quest4truth.org
X-WR-CALDESC:Events for Quest 4 Truth
BEGIN:VEVENT
DTSTART;VALUE=DATE:20180507
DTEND;VALUE=DATE:20180509
DTSTAMP:20260424T200932
CREATED:20180319T123244Z
LAST-MODIFIED:20180319T123244Z
UID:847-1525651200-1525823999@www.quest4truth.org
SUMMARY:Memphis\, USA
DESCRIPTION:Memphis\, USA \n
URL:https://www.quest4truth.org/event/memphis-usa/
END:VEVENT
END:VCALENDAR