BEGIN:VCALENDAR
VERSION:2.0
PRODID:-//Quest 4 Truth - ECPv4.6.18//NONSGML v1.0//EN
CALSCALE:GREGORIAN
METHOD:PUBLISH
X-WR-CALNAME:Quest 4 Truth
X-ORIGINAL-URL:https://www.quest4truth.org
X-WR-CALDESC:Events for Quest 4 Truth
BEGIN:VEVENT
DTSTART;VALUE=DATE:20181204
DTEND;VALUE=DATE:20181218
DTSTAMP:20260424T201314
CREATED:20180319T124437Z
LAST-MODIFIED:20190116T123517Z
UID:865-1543881600-1545091199@www.quest4truth.org
SUMMARY:Thailand - OOE
DESCRIPTION:Thailand – OOE \n
URL:https://www.quest4truth.org/event/thailand-ooe/
END:VEVENT
END:VCALENDAR