BEGIN:VCALENDAR
VERSION:2.0
PRODID:-//Quest 4 Truth - ECPv4.6.18//NONSGML v1.0//EN
CALSCALE:GREGORIAN
METHOD:PUBLISH
X-WR-CALNAME:Quest 4 Truth
X-ORIGINAL-URL:https://www.quest4truth.org
X-WR-CALDESC:Events for Quest 4 Truth
BEGIN:VEVENT
DTSTART;VALUE=DATE:20180611
DTEND;VALUE=DATE:20180617
DTSTAMP:20260424T173536
CREATED:20180319T123829Z
LAST-MODIFIED:20180319T123829Z
UID:855-1528675200-1529193599@www.quest4truth.org
SUMMARY:Israel
DESCRIPTION:Israel \n
URL:https://www.quest4truth.org/event/israel/
END:VEVENT
END:VCALENDAR