BEGIN:VCALENDAR
VERSION:2.0
PRODID:-//Quest 4 Truth - ECPv4.6.18//NONSGML v1.0//EN
CALSCALE:GREGORIAN
METHOD:PUBLISH
X-WR-CALNAME:Quest 4 Truth
X-ORIGINAL-URL:https://www.quest4truth.org
X-WR-CALDESC:Events for Quest 4 Truth
BEGIN:VEVENT
DTSTART;TZID=UTC+0:20180112T090000
DTEND;TZID=UTC+0:20180112T170000
DTSTAMP:20260425T001004
CREATED:20180109T153824Z
LAST-MODIFIED:20180109T164152Z
UID:537-1515747600-1515776400@www.quest4truth.org
SUMMARY:This is my Event
DESCRIPTION:Incidunt incidunt exercitationem ultrices quaerat dignissim. Mi phasellus nam nunc dolore interdum\, modi impedit\, ducimus neque vestibulum? Doloribus maiores magni totam ullamcorper proident illum proident officia\, ducimus nonummy varius praesentium illum voluptate semper class dapibus habitasse\, nemo corrupti harum culpa. \nIllum facilis eget dignissim repudiandae\, nemo\, cubilia proin senectus arcu\, error fames! Animi rutrum cras\, quae accusamus deserunt voluptates anim optio itaque nec do odit! Blanditiis quo officiis. Adipisicing harum primis wisi doloribus ultricies corporis\, faucibus\, officia exercitation cupidatat\, voluptate. \n
URL:https://www.quest4truth.org/event/this-is-my-event/
LOCATION:Richmond\, London\, London\, 1234\, United Kingdom
ATTACH;FMTTYPE=image/jpeg:https://www.quest4truth.org/wp-content/uploads/2018/01/cover-2.jpg
END:VEVENT
END:VCALENDAR